BEGIN:VCALENDAR
VERSION:2.0
PRODID:-//Indiana Eventing Association - ECPv6.15.20//NONSGML v1.0//EN
CALSCALE:GREGORIAN
METHOD:PUBLISH
X-ORIGINAL-URL:https://indyeventers.org
X-WR-CALDESC:Events for Indiana Eventing Association
REFRESH-INTERVAL;VALUE=DURATION:PT1H
X-Robots-Tag:noindex
X-PUBLISHED-TTL:PT1H
BEGIN:VTIMEZONE
TZID:America/Indiana/Indianapolis
BEGIN:DAYLIGHT
TZOFFSETFROM:-0500
TZOFFSETTO:-0400
TZNAME:EDT
DTSTART:20250309T070000
END:DAYLIGHT
BEGIN:STANDARD
TZOFFSETFROM:-0400
TZOFFSETTO:-0500
TZNAME:EST
DTSTART:20251102T060000
END:STANDARD
BEGIN:DAYLIGHT
TZOFFSETFROM:-0500
TZOFFSETTO:-0400
TZNAME:EDT
DTSTART:20260308T070000
END:DAYLIGHT
BEGIN:STANDARD
TZOFFSETFROM:-0400
TZOFFSETTO:-0500
TZNAME:EST
DTSTART:20261101T060000
END:STANDARD
BEGIN:DAYLIGHT
TZOFFSETFROM:-0500
TZOFFSETTO:-0400
TZNAME:EDT
DTSTART:20270314T070000
END:DAYLIGHT
BEGIN:STANDARD
TZOFFSETFROM:-0400
TZOFFSETTO:-0500
TZNAME:EST
DTSTART:20271107T060000
END:STANDARD
END:VTIMEZONE
BEGIN:VEVENT
DTSTART;VALUE=DATE:20260418
DTEND;VALUE=DATE:20260419
DTSTAMP:20260420T152903
CREATED:20260210T025121Z
LAST-MODIFIED:20260210T025121Z
UID:2996-1776470400-1776556799@indyeventers.org
SUMMARY:Heartland CT & Dressage
DESCRIPTION:The Heartland Region Pony Club will be hosting their annual season opener combined test & dressage show on Saturday\, April 18\, 2026 at the Hoosier Horse Park.
URL:https://indyeventers.org/event/heartland-ct-dressage/
LOCATION:Hoosier Horse Park\, 7105 S Kern St\, Nineveh\, IN\, 46164\, United States
CATEGORIES:Schooling Show
ATTACH;FMTTYPE=image/jpeg:https://indyeventers.org/wp-content/uploads/2026/02/BWCPC-Logo.jpg
ORGANIZER;CN="Heartland Region Pony Clubs":MAILTO:cjaninew@gmail.com
END:VEVENT
END:VCALENDAR