BEGIN:VCALENDAR
VERSION:2.0
PRODID:-//Indiana Eventing Association - ECPv6.15.20//NONSGML v1.0//EN
CALSCALE:GREGORIAN
METHOD:PUBLISH
X-WR-CALNAME:Indiana Eventing Association
X-ORIGINAL-URL:https://indyeventers.org
X-WR-CALDESC:Events for Indiana Eventing Association
REFRESH-INTERVAL;VALUE=DURATION:PT1H
X-Robots-Tag:noindex
X-PUBLISHED-TTL:PT1H
BEGIN:VTIMEZONE
TZID:America/Indiana/Indianapolis
BEGIN:DAYLIGHT
TZOFFSETFROM:-0500
TZOFFSETTO:-0400
TZNAME:EDT
DTSTART:20240310T070000
END:DAYLIGHT
BEGIN:STANDARD
TZOFFSETFROM:-0400
TZOFFSETTO:-0500
TZNAME:EST
DTSTART:20241103T060000
END:STANDARD
BEGIN:DAYLIGHT
TZOFFSETFROM:-0500
TZOFFSETTO:-0400
TZNAME:EDT
DTSTART:20250309T070000
END:DAYLIGHT
BEGIN:STANDARD
TZOFFSETFROM:-0400
TZOFFSETTO:-0500
TZNAME:EST
DTSTART:20251102T060000
END:STANDARD
BEGIN:DAYLIGHT
TZOFFSETFROM:-0500
TZOFFSETTO:-0400
TZNAME:EDT
DTSTART:20260308T070000
END:DAYLIGHT
BEGIN:STANDARD
TZOFFSETFROM:-0400
TZOFFSETTO:-0500
TZNAME:EST
DTSTART:20261101T060000
END:STANDARD
END:VTIMEZONE
BEGIN:VEVENT
DTSTART;VALUE=DATE:20250608
DTEND;VALUE=DATE:20250609
DTSTAMP:20260421T050250
CREATED:20250211T171310Z
LAST-MODIFIED:20250211T171310Z
UID:2435-1749340800-1749427199@indyeventers.org
SUMMARY:Splash of Class Mini Trial & CT
DESCRIPTION:Sunday June 8\, 2025:  Splash of Class Mini Trial and Combined Test at Twin Towers Park Fairborn\, OH.  See MVEA website for more info.
URL:https://indyeventers.org/event/splash-of-class-mini-trial-ct/
LOCATION:Twin Towers Park\, 501 Yellow Springs-Fairfield Road\, Bath Township\, OH\, 45324\, United States
CATEGORIES:Horse Trials,Schooling Show
ORGANIZER;CN="Miami Valley Equestrian Association":MAILTO:MVEASDavis@outlook.com
END:VEVENT
BEGIN:VEVENT
DTSTART;VALUE=DATE:20250615
DTEND;VALUE=DATE:20250616
DTSTAMP:20260421T050250
CREATED:20250602T004735Z
LAST-MODIFIED:20250602T010249Z
UID:2598-1749945600-1750031999@indyeventers.org
SUMMARY:Come Again Farm Summer Fun Mini Trials
DESCRIPTION:Date: Sunday\, June 15\, 2025 \nThe CAF Summer Fun Mini Trials & CT is a great way to get yourself and your horse experience at a horse trial without the cost of a recognized event. Overnight stabling will be available.  Limited Hook-ups offered. Come a day early for the Day Before the Trials Event Derby or just come for the mini Trial. \nOnline Registration:  www.ComeAgainFarm.com \nRefunds: No refunds after closing date\, refunds less $10 office charge before closing date. No refunds if event is canceled due to extremely adverse weather conditions Substitutions: will be allowed for a horse OR a rider in the same class. A $10 change fee will apply. Anything else constitutes a new entry\, and will be accepted or not as time allows. \n\nJune 14:  Event Derby\nJune 15:  Mini Trials & Combined Test \n\nArena:  Dressage will be held in a 20 x 40 M Sand ring\, if entries warrant a second arena an indoor will be used\nJumping classes will be held outside in a 120’ x 200’ all weather sand arena.\nCross Country:  Straightforward\, appropriate courses for all levels.  Water and ditches at Beginner Novice up\, Option for Starter and GAG.  Courses timed for Starter through Training\, GAG has no optimum time for show jumping or x/c. \nIntro – fence max height of 12″\, no time\nGAG – 8-12 fences 18” max height\, no time\,\nStarter:  10-14 fences 2’3” max height\, x/c 270 MPM\nBeginner Novice:   14-18 Fences\, 2’7” max height\,   x/c 320 MPM\nNovice:  16-20 fences\, 2’11” max height\,   350MPM\nTraining:  18-24 fences\, 3’3” max height\,   420 MPM x/c \nAwards:  Horse Trials:  Placing to 8th  \nFacilities:  Bathrooms in two barns. \nAttire:    ASTM helmets are required at all times when mounted. Vests and medical information bands are required for cross country.  Formal attire is not required.  Neat polo shirt\, boots and breeches or boot-like half chaps and paddocks are fine.  Braiding is optional.
URL:https://indyeventers.org/event/2025caf-summermini/
LOCATION:Come Again Farm\, 406 W 256th St\, Sheridan\, IN\, 46069\, United States
CATEGORIES:Horse Trials,Schooling Show
ATTACH;FMTTYPE=image/jpeg:https://indyeventers.org/wp-content/uploads/2024/04/CAF-Logo-BW.jpg
ORGANIZER;CN="Lee Ann Zobbe":MAILTO:yodarider@aol.com
END:VEVENT
BEGIN:VEVENT
DTSTART;VALUE=DATE:20250629
DTEND;VALUE=DATE:20250630
DTSTAMP:20260421T050250
CREATED:20250211T171437Z
LAST-MODIFIED:20250211T171437Z
UID:2437-1751155200-1751241599@indyeventers.org
SUMMARY:Miami Valley Equestrian Association Mini Trial
DESCRIPTION:Miami Valley Equestrian Association Mini Trial at Twin Towers Park Fairborn\, OH. See MVEA website for more details.
URL:https://indyeventers.org/event/miami-valley-equestrian-association-mini-trial/
LOCATION:Twin Towers Park\, 501 Yellow Springs-Fairfield Road\, Bath Township\, OH\, 45324\, United States
CATEGORIES:Horse Trials,Schooling Show
ORGANIZER;CN="Miami Valley Equestrian Association":MAILTO:MVEASDavis@outlook.com
END:VEVENT
END:VCALENDAR