BEGIN:VCALENDAR
VERSION:2.0
PRODID:-//Indiana Eventing Association - ECPv6.15.20//NONSGML v1.0//EN
CALSCALE:GREGORIAN
METHOD:PUBLISH
X-ORIGINAL-URL:https://indyeventers.org
X-WR-CALDESC:Events for Indiana Eventing Association
REFRESH-INTERVAL;VALUE=DURATION:PT1H
X-Robots-Tag:noindex
X-PUBLISHED-TTL:PT1H
BEGIN:VTIMEZONE
TZID:America/Indiana/Indianapolis
BEGIN:DAYLIGHT
TZOFFSETFROM:-0500
TZOFFSETTO:-0400
TZNAME:EDT
DTSTART:20240310T070000
END:DAYLIGHT
BEGIN:STANDARD
TZOFFSETFROM:-0400
TZOFFSETTO:-0500
TZNAME:EST
DTSTART:20241103T060000
END:STANDARD
BEGIN:DAYLIGHT
TZOFFSETFROM:-0500
TZOFFSETTO:-0400
TZNAME:EDT
DTSTART:20250309T070000
END:DAYLIGHT
BEGIN:STANDARD
TZOFFSETFROM:-0400
TZOFFSETTO:-0500
TZNAME:EST
DTSTART:20251102T060000
END:STANDARD
BEGIN:DAYLIGHT
TZOFFSETFROM:-0500
TZOFFSETTO:-0400
TZNAME:EDT
DTSTART:20260308T070000
END:DAYLIGHT
BEGIN:STANDARD
TZOFFSETFROM:-0400
TZOFFSETTO:-0500
TZNAME:EST
DTSTART:20261101T060000
END:STANDARD
END:VTIMEZONE
BEGIN:VEVENT
DTSTART;VALUE=DATE:20250510
DTEND;VALUE=DATE:20250511
DTSTAMP:20260421T062101
CREATED:20250103T150819Z
LAST-MODIFIED:20250103T151214Z
UID:2319-1746835200-1746921599@indyeventers.org
SUMMARY:May Flowers Combined Test\, Derby\, Dressage Show
DESCRIPTION:Schooling show at Come Again Farm. \nMay 10\, 2025
URL:https://indyeventers.org/event/may-flowers-combined-test-derby-dressage-show/
LOCATION:Come Again Farm\, 406 W 256th St\, Sheridan\, IN\, 46069\, United States
CATEGORIES:Schooling Show
ORGANIZER;CN="Lee Ann Zobbe":MAILTO:yodarider@aol.com
END:VEVENT
BEGIN:VEVENT
DTSTART;VALUE=DATE:20250511
DTEND;VALUE=DATE:20250512
DTSTAMP:20260421T062101
CREATED:20250211T170830Z
LAST-MODIFIED:20250211T170830Z
UID:2431-1746921600-1747007999@indyeventers.org
SUMMARY:Red Fox Equestrian Mini Trial & CT
DESCRIPTION:Red Fox Equestrian Mini Trial and Combined Test at Twin Towers Park Fairborn\, OH.  See MVEA website for details.
URL:https://indyeventers.org/event/red-fox-equestrian-mini-trial-ct/
LOCATION:Twin Towers Park\, 501 Yellow Springs-Fairfield Road\, Bath Township\, OH\, 45324\, United States
CATEGORIES:Horse Trials,Schooling Show
ORGANIZER;CN="Miami Valley Equestrian Association":MAILTO:MVEASDavis@outlook.com
END:VEVENT
END:VCALENDAR