BEGIN:VCALENDAR
VERSION:2.0
PRODID:-//Indiana Eventing Association - ECPv6.15.20//NONSGML v1.0//EN
CALSCALE:GREGORIAN
METHOD:PUBLISH
X-ORIGINAL-URL:https://indyeventers.org
X-WR-CALDESC:Events for Indiana Eventing Association
REFRESH-INTERVAL;VALUE=DURATION:PT1H
X-Robots-Tag:noindex
X-PUBLISHED-TTL:PT1H
BEGIN:VTIMEZONE
TZID:America/Indiana/Indianapolis
BEGIN:DAYLIGHT
TZOFFSETFROM:-0500
TZOFFSETTO:-0400
TZNAME:EDT
DTSTART:20250309T070000
END:DAYLIGHT
BEGIN:STANDARD
TZOFFSETFROM:-0400
TZOFFSETTO:-0500
TZNAME:EST
DTSTART:20251102T060000
END:STANDARD
BEGIN:DAYLIGHT
TZOFFSETFROM:-0500
TZOFFSETTO:-0400
TZNAME:EDT
DTSTART:20260308T070000
END:DAYLIGHT
BEGIN:STANDARD
TZOFFSETFROM:-0400
TZOFFSETTO:-0500
TZNAME:EST
DTSTART:20261101T060000
END:STANDARD
BEGIN:DAYLIGHT
TZOFFSETFROM:-0500
TZOFFSETTO:-0400
TZNAME:EDT
DTSTART:20270314T070000
END:DAYLIGHT
BEGIN:STANDARD
TZOFFSETFROM:-0400
TZOFFSETTO:-0500
TZNAME:EST
DTSTART:20271107T060000
END:STANDARD
END:VTIMEZONE
BEGIN:VEVENT
DTSTART;TZID=America/Indiana/Indianapolis:20260207T173000
DTEND;TZID=America/Indiana/Indianapolis:20260207T210000
DTSTAMP:20260421T081232
CREATED:20251209T032831Z
LAST-MODIFIED:20251209T035353Z
UID:2747-1770485400-1770498000@indyeventers.org
SUMMARY:IEA Annual Banquet\, Awards & Silent Auction
DESCRIPTION:Save The Date!  The IEA Annual Banquet & Awards will be on Saturday\, February 7\, 2026 @ The Prestwick Golf Club in Avon\, IN.  More details will follow!
URL:https://indyeventers.org/event/iea-annual-banquet-awards-silent-auction/
LOCATION:Prestwick Golf Club\, 5197 Fairway Dr\, Avon\, IN\, 46123\, United States
CATEGORIES:Miscellaneous
ATTACH;FMTTYPE=image/png:https://indyeventers.org/wp-content/uploads/2025/12/2026-Banquet-Save-The-Date.png
END:VEVENT
END:VCALENDAR