BEGIN:VCALENDAR
VERSION:2.0
PRODID:-//Indiana Eventing Association - ECPv6.15.20//NONSGML v1.0//EN
CALSCALE:GREGORIAN
METHOD:PUBLISH
X-WR-CALNAME:Indiana Eventing Association
X-ORIGINAL-URL:https://indyeventers.org
X-WR-CALDESC:Events for Indiana Eventing Association
REFRESH-INTERVAL;VALUE=DURATION:PT1H
X-Robots-Tag:noindex
X-PUBLISHED-TTL:PT1H
BEGIN:VTIMEZONE
TZID:America/Indiana/Indianapolis
BEGIN:DAYLIGHT
TZOFFSETFROM:-0500
TZOFFSETTO:-0400
TZNAME:EDT
DTSTART:20240310T070000
END:DAYLIGHT
BEGIN:STANDARD
TZOFFSETFROM:-0400
TZOFFSETTO:-0500
TZNAME:EST
DTSTART:20241103T060000
END:STANDARD
BEGIN:DAYLIGHT
TZOFFSETFROM:-0500
TZOFFSETTO:-0400
TZNAME:EDT
DTSTART:20250309T070000
END:DAYLIGHT
BEGIN:STANDARD
TZOFFSETFROM:-0400
TZOFFSETTO:-0500
TZNAME:EST
DTSTART:20251102T060000
END:STANDARD
BEGIN:DAYLIGHT
TZOFFSETFROM:-0500
TZOFFSETTO:-0400
TZNAME:EDT
DTSTART:20260308T070000
END:DAYLIGHT
BEGIN:STANDARD
TZOFFSETFROM:-0400
TZOFFSETTO:-0500
TZNAME:EST
DTSTART:20261101T060000
END:STANDARD
END:VTIMEZONE
BEGIN:VEVENT
DTSTART;VALUE=DATE:20251101
DTEND;VALUE=DATE:20251103
DTSTAMP:20260420T213039
CREATED:20250805T223014Z
LAST-MODIFIED:20250805T223108Z
UID:2653-1761955200-1762127999@indyeventers.org
SUMMARY:Sharon White Clinic
DESCRIPTION:Join us for a fun and educational weekend with Sharon White!   Sharon is a student of the horse\, extremely knowledgeable and her teaching is clear\, easily followed\, enthusiastic and confidence building.  \nClinic Date: November 1-2\, 2025\nOpening Date: TBD \nTeam rider Sharon lives in Summit Point\, WV at Last Frontier Farm and has been the recipient of many awards\, including the Rebecca Broussard grant for developing riders in 2012. Her teaching is incredibly positive and consistent and will get the absolute best out of a horse and rider. Her program has developed many riders to the Advanced level. Her accomplishments are too many too list here\, but can be found at http://lastfrontierfarm.com/bio.html
URL:https://indyeventers.org/event/sharon-white-clinic/
LOCATION:Come Again Farm\, 406 W 256th St\, Sheridan\, IN\, 46069\, United States
CATEGORIES:Clinics & Educational Opportunities
ATTACH;FMTTYPE=image/jpeg:https://indyeventers.org/wp-content/uploads/2024/04/CAF-Logo-BW.jpg
ORGANIZER;CN="Lee Ann Zobbe":MAILTO:yodarider@aol.com
END:VEVENT
BEGIN:VEVENT
DTSTART;VALUE=DATE:20251031
DTEND;VALUE=DATE:20251102
DTSTAMP:20260420T213039
CREATED:20250211T165944Z
LAST-MODIFIED:20250211T165944Z
UID:2429-1761868800-1762041599@indyeventers.org
SUMMARY:Cathy Wieschhoff Clinic - Fall
DESCRIPTION:Cathy Wieschhoff will be at Dan Hobyn Stables for clinics on 3 weekends this year:\nJune 29\nAugust 10\nOct 31 – Nov 1\n\n\nBe sure to save the date! Signups will be posted closer to the dates.
URL:https://indyeventers.org/event/cathy-wieschhoff-clinic-oct2025/
LOCATION:Dan Hobyn Stables\, 704 N Mathews Road\, Greenwood\, IN\, 46143\, United States
CATEGORIES:Clinics & Educational Opportunities
END:VEVENT
BEGIN:VEVENT
DTSTART;VALUE=DATE:20250823
DTEND;VALUE=DATE:20250825
DTSTAMP:20260420T213039
CREATED:20250805T221858Z
LAST-MODIFIED:20250805T221858Z
UID:2647-1755907200-1756079999@indyeventers.org
SUMMARY:Tim Bourke Clinic
DESCRIPTION:Tim has established himself as a top rider and sought-after trainer. Tim was named to the Irish High Performance list and is looking forward to the development and future success of Bourke Eventing. In 2015\, Tim and Luckaun Quality completed the Rolex Kentucky CCI4* finishing in 18th place. Tim and Obie followed that up by heading to England for Burghley CCI4* where they were the highest placed Irish pair. Tim has since finished in 11th at Rolex in 2016\, won the Bank One Trophy as the highest placed owner-rider\, and 16th in 2017. \nThe clinic will be a combination of course work and grids on Saturday and Cross Country on Sunday\, weather permitting. \nCost is $375 for the two day clinic\, stabling is $60/weekend\, haul-in fee for non-stabled horses is $15/day. No spots will be held without payment in full. No refunds after closing date unless spot can be filled from a wait list. Entries will be accepted online or by snail mail (make check payable to Come Again Farm). \nOpening Date: July 17\nClosing Date:  Aug 12
URL:https://indyeventers.org/event/tim-bourke-clinic/
LOCATION:Come Again Farm\, 406 W 256th St\, Sheridan\, IN\, 46069\, United States
CATEGORIES:Clinics & Educational Opportunities
ATTACH;FMTTYPE=image/png:https://indyeventers.org/wp-content/uploads/2023/06/Screenshot-2023-06-07-at-10.45.43-PM.png
ORGANIZER;CN="Lee Ann Zobbe":MAILTO:yodarider@aol.com
END:VEVENT
BEGIN:VEVENT
DTSTART;VALUE=DATE:20250823
DTEND;VALUE=DATE:20250825
DTSTAMP:20260420T213039
CREATED:20250805T220833Z
LAST-MODIFIED:20250805T220833Z
UID:2639-1755907200-1756079999@indyeventers.org
SUMMARY:Shannon Lilley Clinic
DESCRIPTION:5 Star  Eventer\, Shannon Lilley will be back for her monthly clinic/ private & group lessons Aug 23-24 in Brownsburg\, IN\, at Hidden Creek Eventing.\n\nOpen to all levels\, starter to advanced. Private lessons $200\, Group Lessons $150.\nContact Liz Holtz Messaglia to reserve your spot.
URL:https://indyeventers.org/event/shannon-lilley-clinic/
LOCATION:Hidden Creek Farm\, Brownsburg\, IN\, 46112\, United States
CATEGORIES:Clinics & Educational Opportunities
ATTACH;FMTTYPE=image/png:https://indyeventers.org/wp-content/uploads/2025/08/Screenshot-2025-08-05-at-6.05.00-PM.png
END:VEVENT
BEGIN:VEVENT
DTSTART;VALUE=DATE:20250810
DTEND;VALUE=DATE:20250811
DTSTAMP:20260420T213039
CREATED:20250211T165804Z
LAST-MODIFIED:20250211T165847Z
UID:2425-1754784000-1754870399@indyeventers.org
SUMMARY:Cathy Wieschhoff Clinic
DESCRIPTION:Cathy Wieschhoff will be at Dan Hobyn Stables for clinics on 3 weekends this year:\nJune 29\nAugust 10\nOct 31 – Nov 1\n\n\nBe sure to save the date! Signups will be posted closer to the dates.
URL:https://indyeventers.org/event/cathy-wieschhoff-clinic-aug2025/
LOCATION:Dan Hobyn Stables\, 704 N Mathews Road\, Greenwood\, IN\, 46143\, United States
CATEGORIES:Clinics & Educational Opportunities
END:VEVENT
BEGIN:VEVENT
DTSTART;VALUE=DATE:20250629
DTEND;VALUE=DATE:20250630
DTSTAMP:20260420T213039
CREATED:20250211T165622Z
LAST-MODIFIED:20250211T165622Z
UID:2422-1751155200-1751241599@indyeventers.org
SUMMARY:Cathy Wieschhoff Clinic
DESCRIPTION:Cathy Wieschhoff will be at Dan Hobyn Stables for clinics on 3 weekends this year:\nJune 29\nAugust 10\nOct 31 – Nov 1\n\n\nBe sure to save the date! Signups will be posted closer to the dates.
URL:https://indyeventers.org/event/cathy-wieschhoff-clinic/
LOCATION:Dan Hobyn Stables\, 704 N Mathews Road\, Greenwood\, IN\, 46143\, United States
CATEGORIES:Clinics & Educational Opportunities
END:VEVENT
BEGIN:VEVENT
DTSTART;VALUE=DATE:20250621
DTEND;VALUE=DATE:20250623
DTSTAMP:20260420T213039
CREATED:20250602T011451Z
LAST-MODIFIED:20250602T011541Z
UID:2603-1750464000-1750636799@indyeventers.org
SUMMARY:Lesley Grant-Law Clinic
DESCRIPTION:Lesley Grant-Law will be coming to Pletch Equestrian Center for lessons! She will be teaching private flat ($170) and semi private show jump or XC lessons ($140). Please contact Gina Pletch for a registration form. \nFacilities: Indoor area set for flat\, the outdoor set for show jump\, and the XC has water\, ditches\, banks\, mounds for any level. \nAbout Lesley\nLesley was an upper level eventer for many years and has now switched to doing the show jumpers full time\, so she is an asset to any phase. She is tough but fair. She is married to Leslie Law who is our new US Eventing Chef de Equipe and an Olympic gold medalist in eventing\, so she comes with so much support in her education. She has helped and still coaches many of their working students up through the levels of eventing on various levels of horses with so much success.  More about Lesley Grant-Law can be found here.
URL:https://indyeventers.org/event/lesley-grant-law/
LOCATION:Pletch Equestrian Center\, 9712 E 350 S\, Lafayette\, IN\, 47905\, United States
CATEGORIES:Clinics & Educational Opportunities
ORGANIZER;CN="Gina Pletch":MAILTO:pletchequine@gmail.com
END:VEVENT
BEGIN:VEVENT
DTSTART;VALUE=DATE:20250503
DTEND;VALUE=DATE:20250505
DTSTAMP:20260420T213039
CREATED:20250204T201701Z
LAST-MODIFIED:20250318T160719Z
UID:2377-1746230400-1746403199@indyeventers.org
SUMMARY:2025 IEA Eventing Clinic w/Lillian Heard Wood
DESCRIPTION:INDIANA EVENTING ASSOCIATION\nSPONSORED CLINIC\nwith\nLILLIAN HEARD WOOD\nMay 3-4\, 2025\nJohnson County Hoosier Horse Park\nEdinburgh\, Indiana \nOPENING DATE: March 18\, 2025\nCLOSING DATE:  April 22\, 2025 \n** CLICK HERE FOR ONLINE REGISTRATION **\nMembers must be logged in to receive discounted registration!\nPlease join us for a fun-filled weekend of learning! Auditing is free and highly encouraged. We will be outside both days. If weather and footing cooperate\, we will move to the XC course on Sunday. \nClinic Format\nSaturday (Flat/Stadium)\nSunday (XC questions) \nAbout Lillian\nLillian has trained and competed throughout the US as well as internationally in Ireland and England. Lillian is also a Level IV certified instructor in the Eventing Coaches Program run by the USEA. Lillian is based in PA and trains with Boyd and Silva Martin as well as other top professionals in the US and Canada. \n“Good riding comes in all different shapes and sizes and I can bring all of these different techniques into my training regime.” – Lillian \nMore information on Lillian can be found here: https://www.lillianjheard.com/about-us \nClinic Fees \nIEA Members:  $300\nNon-Members:  $350 \nStabling: $25/Night\nHaul-ins: $10/Day \nTo reserve your spot: enter online\, upload your current coggins and sign the Johnson County Park waiver. Payment in full is due at time of registration. Cancellation spots must be filled from the waiting list for a refund.  Any refunds issued will NOT include credit card processing fees. \nInquiries/questions should be directed to:\nAnne Varns\, 812.322.5613 or aevarns@comcast.net\nDorie Mayfield 812-272-9200 or dlmayfie@gmail.com \nAll riders will be required to wear helmets and an up-to-date medical armband or bracelet both days — and a safety vest if we use the XC course. No additional cost for auditing. \nFor a list of nearby accommodations\, please reference the USEA Omnibus listing for the IEA Horse Trials. Bathroom and shower access on site. Bagged shavings and camper sites will be available to purchase through the HHP. To order shavings\, reserve campsites and/or for maps & directions to the park\, please visit the HHP’s website:  https://www.jocoparks.com/hoosier-horse-park \n 
URL:https://indyeventers.org/event/2025-clinic/
LOCATION:Hoosier Horse Park\, 7105 S Kern St\, Nineveh\, IN\, 46164\, United States
CATEGORIES:Clinics & Educational Opportunities
ATTACH;FMTTYPE=image/jpeg:https://indyeventers.org/wp-content/uploads/2023/11/LillianHeardWood-1.jpg
ORGANIZER;CN="Anne Varns":MAILTO:aevarns@comcast.net
END:VEVENT
END:VCALENDAR