BEGIN:VCALENDAR
VERSION:2.0
PRODID:-//Indiana Eventing Association - ECPv6.15.20//NONSGML v1.0//EN
CALSCALE:GREGORIAN
METHOD:PUBLISH
X-WR-CALNAME:Indiana Eventing Association
X-ORIGINAL-URL:https://indyeventers.org
X-WR-CALDESC:Events for Indiana Eventing Association
REFRESH-INTERVAL;VALUE=DURATION:PT1H
X-Robots-Tag:noindex
X-PUBLISHED-TTL:PT1H
BEGIN:VTIMEZONE
TZID:America/Indiana/Indianapolis
BEGIN:DAYLIGHT
TZOFFSETFROM:-0500
TZOFFSETTO:-0400
TZNAME:EDT
DTSTART:20250309T070000
END:DAYLIGHT
BEGIN:STANDARD
TZOFFSETFROM:-0400
TZOFFSETTO:-0500
TZNAME:EST
DTSTART:20251102T060000
END:STANDARD
BEGIN:DAYLIGHT
TZOFFSETFROM:-0500
TZOFFSETTO:-0400
TZNAME:EDT
DTSTART:20260308T070000
END:DAYLIGHT
BEGIN:STANDARD
TZOFFSETFROM:-0400
TZOFFSETTO:-0500
TZNAME:EST
DTSTART:20261101T060000
END:STANDARD
BEGIN:DAYLIGHT
TZOFFSETFROM:-0500
TZOFFSETTO:-0400
TZNAME:EDT
DTSTART:20270314T070000
END:DAYLIGHT
BEGIN:STANDARD
TZOFFSETFROM:-0400
TZOFFSETTO:-0500
TZNAME:EST
DTSTART:20271107T060000
END:STANDARD
END:VTIMEZONE
BEGIN:VEVENT
DTSTART;VALUE=DATE:20260529
DTEND;VALUE=DATE:20260601
DTSTAMP:20260423T172101
CREATED:20251228T182019Z
LAST-MODIFIED:20251228T182201Z
UID:2855-1780012800-1780271999@indyeventers.org
SUMMARY:2026 IEA Horse Trials & Classic Series 3-Day Event
DESCRIPTION:Event Info\n\nUSEA Event ID: 19002 \nEvent Date: May 29 – 31\, 2026 \nOpen Date: Apr 14 | Close Date: May 12 \nLocation: Edinburgh\, Hoosier Horse Park\, Camp Atterbury\, IN 46124 (AREA 8) \n\n\n\nDivisions\n\nUSEF Endorsed/USEA Recognized: T3D\,T\,N\,BN\nUSEF/USEA Recognized: IP\,P\,M\nUSEA Recognized Tests: N3D\,BN3D\,Starter
URL:https://indyeventers.org/event/2026-ieaht/
LOCATION:Hoosier Horse Park\, 7105 S Kern St\, Nineveh\, IN\, 46164\, United States
CATEGORIES:Horse Trials
ATTACH;FMTTYPE=image/jpeg:https://indyeventers.org/wp-content/uploads/2025/06/IMG_9750-scaled.jpeg
END:VEVENT
END:VCALENDAR