BEGIN:VCALENDAR
VERSION:2.0
PRODID:-//Indiana Eventing Association - ECPv6.15.20//NONSGML v1.0//EN
CALSCALE:GREGORIAN
METHOD:PUBLISH
X-WR-CALNAME:Indiana Eventing Association
X-ORIGINAL-URL:https://indyeventers.org
X-WR-CALDESC:Events for Indiana Eventing Association
REFRESH-INTERVAL;VALUE=DURATION:PT1H
X-Robots-Tag:noindex
X-PUBLISHED-TTL:PT1H
BEGIN:VTIMEZONE
TZID:America/Indiana/Indianapolis
BEGIN:DAYLIGHT
TZOFFSETFROM:-0500
TZOFFSETTO:-0400
TZNAME:EDT
DTSTART:20240310T070000
END:DAYLIGHT
BEGIN:STANDARD
TZOFFSETFROM:-0400
TZOFFSETTO:-0500
TZNAME:EST
DTSTART:20241103T060000
END:STANDARD
BEGIN:DAYLIGHT
TZOFFSETFROM:-0500
TZOFFSETTO:-0400
TZNAME:EDT
DTSTART:20250309T070000
END:DAYLIGHT
BEGIN:STANDARD
TZOFFSETFROM:-0400
TZOFFSETTO:-0500
TZNAME:EST
DTSTART:20251102T060000
END:STANDARD
BEGIN:DAYLIGHT
TZOFFSETFROM:-0500
TZOFFSETTO:-0400
TZNAME:EDT
DTSTART:20260308T070000
END:DAYLIGHT
BEGIN:STANDARD
TZOFFSETFROM:-0400
TZOFFSETTO:-0500
TZNAME:EST
DTSTART:20261101T060000
END:STANDARD
END:VTIMEZONE
BEGIN:VEVENT
DTSTART;VALUE=DATE:20250823
DTEND;VALUE=DATE:20250825
DTSTAMP:20260420T231248
CREATED:20250805T221858Z
LAST-MODIFIED:20250805T221858Z
UID:2647-1755907200-1756079999@indyeventers.org
SUMMARY:Tim Bourke Clinic
DESCRIPTION:Tim has established himself as a top rider and sought-after trainer. Tim was named to the Irish High Performance list and is looking forward to the development and future success of Bourke Eventing. In 2015\, Tim and Luckaun Quality completed the Rolex Kentucky CCI4* finishing in 18th place. Tim and Obie followed that up by heading to England for Burghley CCI4* where they were the highest placed Irish pair. Tim has since finished in 11th at Rolex in 2016\, won the Bank One Trophy as the highest placed owner-rider\, and 16th in 2017. \nThe clinic will be a combination of course work and grids on Saturday and Cross Country on Sunday\, weather permitting. \nCost is $375 for the two day clinic\, stabling is $60/weekend\, haul-in fee for non-stabled horses is $15/day. No spots will be held without payment in full. No refunds after closing date unless spot can be filled from a wait list. Entries will be accepted online or by snail mail (make check payable to Come Again Farm). \nOpening Date: July 17\nClosing Date:  Aug 12
URL:https://indyeventers.org/event/tim-bourke-clinic/
LOCATION:Come Again Farm\, 406 W 256th St\, Sheridan\, IN\, 46069\, United States
CATEGORIES:Clinics & Educational Opportunities
ATTACH;FMTTYPE=image/png:https://indyeventers.org/wp-content/uploads/2023/06/Screenshot-2023-06-07-at-10.45.43-PM.png
ORGANIZER;CN="Lee Ann Zobbe":MAILTO:yodarider@aol.com
END:VEVENT
END:VCALENDAR