BEGIN:VCALENDAR
VERSION:2.0
PRODID:-//Indiana Eventing Association - ECPv6.15.20//NONSGML v1.0//EN
CALSCALE:GREGORIAN
METHOD:PUBLISH
X-WR-CALNAME:Indiana Eventing Association
X-ORIGINAL-URL:https://indyeventers.org
X-WR-CALDESC:Events for Indiana Eventing Association
REFRESH-INTERVAL;VALUE=DURATION:PT1H
X-Robots-Tag:noindex
X-PUBLISHED-TTL:PT1H
BEGIN:VTIMEZONE
TZID:America/Indiana/Indianapolis
BEGIN:DAYLIGHT
TZOFFSETFROM:-0500
TZOFFSETTO:-0400
TZNAME:EDT
DTSTART:20240310T070000
END:DAYLIGHT
BEGIN:STANDARD
TZOFFSETFROM:-0400
TZOFFSETTO:-0500
TZNAME:EST
DTSTART:20241103T060000
END:STANDARD
BEGIN:DAYLIGHT
TZOFFSETFROM:-0500
TZOFFSETTO:-0400
TZNAME:EDT
DTSTART:20250309T070000
END:DAYLIGHT
BEGIN:STANDARD
TZOFFSETFROM:-0400
TZOFFSETTO:-0500
TZNAME:EST
DTSTART:20251102T060000
END:STANDARD
BEGIN:DAYLIGHT
TZOFFSETFROM:-0500
TZOFFSETTO:-0400
TZNAME:EDT
DTSTART:20260308T070000
END:DAYLIGHT
BEGIN:STANDARD
TZOFFSETFROM:-0400
TZOFFSETTO:-0500
TZNAME:EST
DTSTART:20261101T060000
END:STANDARD
END:VTIMEZONE
BEGIN:VEVENT
DTSTART;VALUE=DATE:20250801
DTEND;VALUE=DATE:20250804
DTSTAMP:20260423T130750
CREATED:20250526T123432Z
LAST-MODIFIED:20250526T123432Z
UID:2567-1754006400-1754265599@indyeventers.org
SUMMARY:2025 Hoosier Horse Trials
DESCRIPTION:Hoosier Horse Trials | Edinburgh\, Indiana (AREA 8) \nEvent Date: Aug 1 – 3\, 2025 Open Date: June 17 Close Date: Jul 15 \nDivisions\nUSEF Endorsed/USEA Recognized: T\,N\,BN\nUSEF/USEA Recognized: P\,M\nUSEA Recognized Tests: Starter\, Tadpole \nTentative Schedule:\nFri: Cross-country course open-3 pm; Competitor packets available 2-6 pm. Sat: Dressage-7:30 am; Cross-country-9:30 am. Sun: Show Jumping-8:00 am. This schedule is very tentative. Please check USEA or on the event’s FB page for updates.\n\nStarting Times:\nRide Times and Stall Assignments on StartBox one week before the competition. www.startboxscoring.com Check StartBox to confirm you entry information is correct.
URL:https://indyeventers.org/event/2025-hoosier-horse-trials/
LOCATION:Hoosier Horse Park\, 7105 S Kern St\, Nineveh\, IN\, 46164\, United States
CATEGORIES:Horse Trials
ATTACH;FMTTYPE=image/png:https://indyeventers.org/wp-content/uploads/2023/06/HoosierHorseTrials.png
END:VEVENT
END:VCALENDAR